BEGIN:VCALENDAR
VERSION:2.0
PRODID:-//Institut Ustawi - ECPv6.0.5//NONSGML v1.0//EN
CALSCALE:GREGORIAN
METHOD:PUBLISH
X-WR-CALNAME:Institut Ustawi
X-ORIGINAL-URL:https://ustawi.school
X-WR-CALDESC:évènements pour Institut Ustawi
REFRESH-INTERVAL;VALUE=DURATION:PT1H
X-Robots-Tag:noindex
X-PUBLISHED-TTL:PT1H
BEGIN:VTIMEZONE
TZID:Europe/Helsinki
BEGIN:DAYLIGHT
TZOFFSETFROM:+0200
TZOFFSETTO:+0300
TZNAME:EEST
DTSTART:20260329T010000
END:DAYLIGHT
BEGIN:STANDARD
TZOFFSETFROM:+0300
TZOFFSETTO:+0200
TZNAME:EET
DTSTART:20261025T010000
END:STANDARD
END:VTIMEZONE
BEGIN:VEVENT
DTSTART;TZID=Europe/Helsinki:20260414T120000
DTEND;TZID=Europe/Helsinki:20260414T150000
DTSTAMP:20260420T145507
CREATED:20260419T144450Z
LAST-MODIFIED:20260419T144450Z
UID:28913-1776168000-1776178800@ustawi.school
SUMMARY:🌟 Une visite qui restera gravée dans nos cœurs !
DESCRIPTION:En souvenir de notre passage et de notre gratitude\nCes dernières vacances ont été bien plus que du repos à l’Institut Ustawi. Nos anciens élèves — les Adusta — venus de partout\, ont répondu présent avec un élan de générosité et de solidarité qui nous a tous touchés. \nEnsemble\, membres du gouvernement de l’école et Adusta ont retroussé les manches pour embellir et aménager la cour de l’institut. Un beau geste qui montre que l’amour pour Ustawi ne s’arrête pas le jour du diplôme. \nMais ils ne se sont pas arrêtés là ! Le mardi 14 avril 2026\, nos Adusta sont revenus pour offrir à l’institut un kit Starlink — une connexion wifi qui va ouvrir de nouvelles portes pour tous les élèves et enseignants. Une réception a été organisée en leur honneur pour célébrer ce moment et leur exprimer toute notre gratitude. \nUn grand merci à chacun de ces généreux donateurs : \n> Kakudji Mpyana Francis • Kapamba Pungia Carol • Kaputo Mwansa Christelle • Kasongo Djem Yann • Kasongo Fwatuma Cedrick • Katete Chemeseni Melanie • Kimoto Kankwete Christel • Lubenga Ali Baba Athos • Luhonda Kuwana Karel • Lumumba Onyumbe Patrick • Mupoya Ntambwe Kitengie Freddy • Mutombo Kaindu Patrick • Mwamba Katshambile Francis • Mwandwe Fifwaye Eloge • Ngwanza Mbinzi Kita Deddy • Olonda Tshomba Jacky \nEt une pensée particulière pour Kongolo Mbav Bob (R.I.P 2018)\, dont la mémoire reste présente parmi nous. 🕊️ \nÀ tous nos Adusta : merci du fond du cœur. Vous êtes la preuve vivante que les racines d’Ustawi sont solides\, et que la famille ne s’oublie jamais. 💙 \nEn souvenir de votre passage et de votre gratitude. \n#InstitutUstawi #Adusta #WiFi #Ensemble #Likasi
URL:https://ustawi.school/event/%f0%9f%8c%9f-une-visite-qui-restera-gravee-dans-nos-coeurs/
LOCATION:Likasi Institut Ustawi\, Av.Mobutu\, Likasi\, Katanga\, +243\, Congo\, République démocratique du
END:VEVENT
END:VCALENDAR